BEGIN:VCALENDAR
VERSION:2.0
PRODID:-//crossroadsatparkplace.org//NONSGML kigkonsult.se iCalcreator 2.30
 .10//
CALSCALE:GREGORIAN
METHOD:PUBLISH
UID:87ba9435-ad68-4183-93d7-ad05dec9e15a
X-WR-CALDESC:
X-WR-RELCALID:8a4b822b454ba1ea33ab080012766470
X-WR-TIMEZONE:America/Chicago
BEGIN:VTIMEZONE
TZID:America/Chicago
BEGIN:STANDARD
TZNAME:CST
DTSTART:20251102T020000
TZOFFSETFROM:-0500
TZOFFSETTO:-0600
RDATE:20261101T020000
END:STANDARD
BEGIN:DAYLIGHT
TZNAME:CDT
DTSTART:20250309T020000
TZOFFSETFROM:-0600
TZOFFSETTO:-0500
RDATE:20260308T020000
RDATE:20270314T020000
END:DAYLIGHT
END:VTIMEZONE
BEGIN:VEVENT
UID:38979923-af81-4250-b28b-d5e0649676cf
DTSTAMP:20260422T155713Z
DESCRIPTION:
DTSTART;TZID=America/Chicago:20260107T100000
DTEND;TZID=America/Chicago:20260107T120000
LOCATION:
SUMMARY:Community Food Fair
END:VEVENT
END:VCALENDAR
