BEGIN:VCALENDAR
VERSION:2.0
PRODID:-//crossroadsatparkplace.org//NONSGML kigkonsult.se iCalcreator 2.30
 .10//
CALSCALE:GREGORIAN
METHOD:PUBLISH
UID:dc262641-52ab-478f-a287-c5bbd83a30da
X-WR-CALDESC:
X-WR-RELCALID:638f9a6246481f02fb032d41e5e3d2bc
X-WR-TIMEZONE:America/Chicago
BEGIN:VTIMEZONE
TZID:America/Chicago
BEGIN:STANDARD
TZNAME:CST
DTSTART:20251102T020000
TZOFFSETFROM:-0500
TZOFFSETTO:-0600
RDATE:20261101T020000
END:STANDARD
BEGIN:DAYLIGHT
TZNAME:CDT
DTSTART:20250309T020000
TZOFFSETFROM:-0600
TZOFFSETTO:-0500
RDATE:20260308T020000
RDATE:20270314T020000
END:DAYLIGHT
END:VTIMEZONE
BEGIN:VEVENT
UID:44dd9669-d6e9-486c-8785-bdab34c81b42
DTSTAMP:20260422T143700Z
DESCRIPTION:
DTSTART;TZID=America/Chicago:20260204T100000
DTEND;TZID=America/Chicago:20260204T120000
LOCATION:
SUMMARY:Community Food Fair
END:VEVENT
END:VCALENDAR
