BEGIN:VCALENDAR
VERSION:2.0
PRODID:-//crossroadsatparkplace.org//NONSGML kigkonsult.se iCalcreator 2.30
 .10//
CALSCALE:GREGORIAN
METHOD:PUBLISH
UID:800eaf61-ce8f-40c3-a37b-1059c795f3d7
X-WR-CALDESC:
X-WR-RELCALID:aea7bd749cc64dd24e1eec819e1bef4b
X-WR-TIMEZONE:America/Chicago
BEGIN:VTIMEZONE
TZID:America/Chicago
BEGIN:STANDARD
TZNAME:CST
DTSTART:20251102T020000
TZOFFSETFROM:-0500
TZOFFSETTO:-0600
RDATE:20261101T020000
END:STANDARD
BEGIN:DAYLIGHT
TZNAME:CDT
DTSTART:20250309T020000
TZOFFSETFROM:-0600
TZOFFSETTO:-0500
RDATE:20260308T020000
RDATE:20270314T020000
END:DAYLIGHT
END:VTIMEZONE
BEGIN:VEVENT
UID:b23464d2-372c-4a78-8d4b-864e50f65432
DTSTAMP:20260422T143406Z
DESCRIPTION:
DTSTART;TZID=America/Chicago:20260219T070000
DTEND;TZID=America/Chicago:20260219T120000
LOCATION:
SUMMARY:Full Service in Operation
END:VEVENT
END:VCALENDAR
