BEGIN:VCALENDAR
VERSION:2.0
PRODID:-//crossroadsatparkplace.org//NONSGML kigkonsult.se iCalcreator 2.30
 .10//
CALSCALE:GREGORIAN
METHOD:PUBLISH
UID:ad1d63f7-bfec-4eaa-9670-00a39ed46db5
X-WR-CALDESC:
X-WR-RELCALID:249a40eff779d1a2fa74ac34cd9acd40
X-WR-TIMEZONE:America/Chicago
BEGIN:VTIMEZONE
TZID:America/Chicago
BEGIN:STANDARD
TZNAME:CST
DTSTART:20251102T020000
TZOFFSETFROM:-0500
TZOFFSETTO:-0600
RDATE:20261101T020000
END:STANDARD
BEGIN:DAYLIGHT
TZNAME:CDT
DTSTART:20260308T020000
TZOFFSETFROM:-0600
TZOFFSETTO:-0500
RDATE:20270314T020000
END:DAYLIGHT
END:VTIMEZONE
BEGIN:VEVENT
UID:896b5a4f-99aa-49f6-aab5-69ad75f2f21b
DTSTAMP:20260422T131151Z
DESCRIPTION:
DTSTART;TZID=America/Chicago:20260317T070000
DTEND;TZID=America/Chicago:20260317T120000
LOCATION:
SUMMARY:Full Service in Operation
END:VEVENT
END:VCALENDAR
