BEGIN:VCALENDAR
VERSION:2.0
PRODID:-//crossroadsatparkplace.org//NONSGML kigkonsult.se iCalcreator 2.30
 .10//
CALSCALE:GREGORIAN
METHOD:PUBLISH
UID:5ea15de9-3e5b-4ce7-b2e6-8b95fbd68bf5
X-WR-CALDESC:
X-WR-RELCALID:b259abb4fc77a8d572fc01d374857d7d
X-WR-TIMEZONE:America/Chicago
BEGIN:VTIMEZONE
TZID:America/Chicago
BEGIN:STANDARD
TZNAME:CST
DTSTART:20251102T020000
TZOFFSETFROM:-0500
TZOFFSETTO:-0600
RDATE:20261101T020000
END:STANDARD
BEGIN:DAYLIGHT
TZNAME:CDT
DTSTART:20260308T020000
TZOFFSETFROM:-0600
TZOFFSETTO:-0500
RDATE:20270314T020000
END:DAYLIGHT
END:VTIMEZONE
BEGIN:VEVENT
UID:87fa8f05-c2cf-4756-b3dc-e0c79b7e223a
DTSTAMP:20260422T120858Z
DESCRIPTION:
DTSTART;TZID=America/Chicago:20260401T100000
DTEND;TZID=America/Chicago:20260401T120000
LOCATION:
SUMMARY:Community Food Fair
END:VEVENT
END:VCALENDAR
