BEGIN:VCALENDAR
VERSION:2.0
PRODID:-//crossroadsatparkplace.org//NONSGML kigkonsult.se iCalcreator 2.30
 .10//
CALSCALE:GREGORIAN
METHOD:PUBLISH
UID:6ea0cf63-1311-4253-950d-a88f980e0b1e
X-WR-CALDESC:
X-WR-RELCALID:7888cbcb53cdd7cd8de6a65ca5bdd95a
X-WR-TIMEZONE:America/Chicago
BEGIN:VTIMEZONE
TZID:America/Chicago
BEGIN:STANDARD
TZNAME:CST
DTSTART:20251102T020000
TZOFFSETFROM:-0500
TZOFFSETTO:-0600
RDATE:20261101T020000
END:STANDARD
BEGIN:DAYLIGHT
TZNAME:CDT
DTSTART:20260308T020000
TZOFFSETFROM:-0600
TZOFFSETTO:-0500
RDATE:20270314T020000
END:DAYLIGHT
END:VTIMEZONE
BEGIN:VEVENT
UID:5e926015-b295-4f4e-a52b-06430d9a58b8
DTSTAMP:20260422T120011Z
DESCRIPTION:
DTSTART;TZID=America/Chicago:20260416T070000
DTEND;TZID=America/Chicago:20260416T120000
LOCATION:
SUMMARY:Full Service in Operation
END:VEVENT
END:VCALENDAR
