BEGIN:VCALENDAR
VERSION:2.0
PRODID:-//crossroadsatparkplace.org//NONSGML kigkonsult.se iCalcreator 2.30
 .10//
CALSCALE:GREGORIAN
METHOD:PUBLISH
UID:6e6a0b2b-89a5-4e7a-9d86-2678b9bbfac3
X-WR-CALDESC:
X-WR-RELCALID:94f268a4ab13b54aa1c7dd427ce9af6b
X-WR-TIMEZONE:America/Chicago
BEGIN:VTIMEZONE
TZID:America/Chicago
BEGIN:STANDARD
TZNAME:CST
DTSTART:20251102T020000
TZOFFSETFROM:-0500
TZOFFSETTO:-0600
RDATE:20261101T020000
END:STANDARD
BEGIN:DAYLIGHT
TZNAME:CDT
DTSTART:20260308T020000
TZOFFSETFROM:-0600
TZOFFSETTO:-0500
RDATE:20270314T020000
END:DAYLIGHT
END:VTIMEZONE
BEGIN:VEVENT
UID:1abcb1fe-f69b-442d-a186-5fd58ded0857
DTSTAMP:20260422T120925Z
DESCRIPTION:
DTSTART;TZID=America/Chicago:20260428T070000
DTEND;TZID=America/Chicago:20260428T120000
LOCATION:
SUMMARY:Full Service in Operation
END:VEVENT
END:VCALENDAR
