BEGIN:VCALENDAR
VERSION:2.0
PRODID:-//crossroadsatparkplace.org//NONSGML kigkonsult.se iCalcreator 2.30
 .10//
CALSCALE:GREGORIAN
METHOD:PUBLISH
UID:7ef126d9-4235-43ce-a2fa-c146dd98e48c
X-WR-CALDESC:
X-WR-RELCALID:ca6ece44dc12a9a635ec767f84dd33bf
X-WR-TIMEZONE:America/Chicago
BEGIN:VTIMEZONE
TZID:America/Chicago
BEGIN:STANDARD
TZNAME:CST
DTSTART:20251102T020000
TZOFFSETFROM:-0500
TZOFFSETTO:-0600
RDATE:20261101T020000
RDATE:20271107T020000
END:STANDARD
BEGIN:DAYLIGHT
TZNAME:CDT
DTSTART:20260308T020000
TZOFFSETFROM:-0600
TZOFFSETTO:-0500
RDATE:20270314T020000
END:DAYLIGHT
END:VTIMEZONE
BEGIN:VEVENT
UID:20d92ba4-c4c8-4a04-a33e-f37e84ca9e9b
DTSTAMP:20260422T133038Z
DESCRIPTION:
DTSTART;TZID=America/Chicago:20260527T100000
DTEND;TZID=America/Chicago:20260527T120000
LOCATION:
SUMMARY:Community Food Fair
END:VEVENT
END:VCALENDAR
