BEGIN:VCALENDAR
VERSION:2.0
PRODID:-//crossroadsatparkplace.org//NONSGML kigkonsult.se iCalcreator 2.30
 .10//
CALSCALE:GREGORIAN
METHOD:PUBLISH
UID:ba4a845e-25bc-4bfb-becb-ea984caff4f1
X-WR-CALDESC:
X-WR-RELCALID:05756a5929acb5e980b19092e1a4b14c
X-WR-TIMEZONE:America/Chicago
BEGIN:VTIMEZONE
TZID:America/Chicago
BEGIN:STANDARD
TZNAME:CST
DTSTART:20251102T020000
TZOFFSETFROM:-0500
TZOFFSETTO:-0600
RDATE:20261101T020000
RDATE:20271107T020000
END:STANDARD
BEGIN:DAYLIGHT
TZNAME:CDT
DTSTART:20260308T020000
TZOFFSETFROM:-0600
TZOFFSETTO:-0500
RDATE:20270314T020000
END:DAYLIGHT
END:VTIMEZONE
BEGIN:VEVENT
UID:1e433f92-362d-4b14-8b83-9ee95273ea42
DTSTAMP:20260422T154923Z
DESCRIPTION:
DTSTART;TZID=America/Chicago:20260708T100000
DTEND;TZID=America/Chicago:20260708T120000
LOCATION:
SUMMARY:Community Food Fair
END:VEVENT
END:VCALENDAR
