BEGIN:VCALENDAR
VERSION:2.0
PRODID:-//crossroadsatparkplace.org//NONSGML kigkonsult.se iCalcreator 2.30
 .10//
CALSCALE:GREGORIAN
METHOD:PUBLISH
UID:9029f2df-c40e-475b-a3ac-252e983b1898
X-WR-CALDESC:
X-WR-RELCALID:0c27a0b53efac800bd741fdb97e950fe
X-WR-TIMEZONE:America/Chicago
BEGIN:VTIMEZONE
TZID:America/Chicago
BEGIN:STANDARD
TZNAME:CST
DTSTART:20251102T020000
TZOFFSETFROM:-0500
TZOFFSETTO:-0600
RDATE:20261101T020000
RDATE:20271107T020000
END:STANDARD
BEGIN:DAYLIGHT
TZNAME:CDT
DTSTART:20260308T020000
TZOFFSETFROM:-0600
TZOFFSETTO:-0500
RDATE:20270314T020000
END:DAYLIGHT
END:VTIMEZONE
BEGIN:VEVENT
UID:52d47a6b-978f-4458-b49a-3d7053064495
DTSTAMP:20260422T154939Z
DESCRIPTION:
DTSTART;TZID=America/Chicago:20260722T100000
DTEND;TZID=America/Chicago:20260722T120000
LOCATION:
SUMMARY:Community Food Fair
END:VEVENT
END:VCALENDAR
