BEGIN:VCALENDAR
VERSION:2.0
PRODID:-//crossroadsatparkplace.org//NONSGML kigkonsult.se iCalcreator 2.30
 .10//
CALSCALE:GREGORIAN
METHOD:PUBLISH
UID:36baa076-976d-48f9-b2b1-338a0603d516
X-WR-CALDESC:
X-WR-RELCALID:9e890c6e0b360afa2e92d135b7e4e6b8
X-WR-TIMEZONE:America/Chicago
BEGIN:VTIMEZONE
TZID:America/Chicago
BEGIN:STANDARD
TZNAME:CST
DTSTART:20251102T020000
TZOFFSETFROM:-0500
TZOFFSETTO:-0600
RDATE:20261101T020000
RDATE:20271107T020000
END:STANDARD
BEGIN:DAYLIGHT
TZNAME:CDT
DTSTART:20260308T020000
TZOFFSETFROM:-0600
TZOFFSETTO:-0500
RDATE:20270314T020000
END:DAYLIGHT
END:VTIMEZONE
BEGIN:VEVENT
UID:bdae64ee-0b60-4384-bdc9-6fe140286ecb
DTSTAMP:20260422T154847Z
DESCRIPTION:
DTSTART;TZID=America/Chicago:20260729T100000
DTEND;TZID=America/Chicago:20260729T120000
LOCATION:
SUMMARY:Community Food Fair
END:VEVENT
END:VCALENDAR
