BEGIN:VCALENDAR
VERSION:2.0
PRODID:-//crossroadsatparkplace.org//NONSGML kigkonsult.se iCalcreator 2.30
 .10//
CALSCALE:GREGORIAN
METHOD:PUBLISH
UID:e3e3e0f6-481c-4014-bf02-9ea63fd1d2cd
X-WR-CALDESC:
X-WR-RELCALID:da906ded83e46fdf4df1f07689e4dc2d
X-WR-TIMEZONE:America/Chicago
BEGIN:VTIMEZONE
TZID:America/Chicago
BEGIN:STANDARD
TZNAME:CST
DTSTART:20251102T020000
TZOFFSETFROM:-0500
TZOFFSETTO:-0600
RDATE:20261101T020000
RDATE:20271107T020000
END:STANDARD
BEGIN:DAYLIGHT
TZNAME:CDT
DTSTART:20260308T020000
TZOFFSETFROM:-0600
TZOFFSETTO:-0500
RDATE:20270314T020000
END:DAYLIGHT
END:VTIMEZONE
BEGIN:VEVENT
UID:946948ce-ed54-4095-82f3-1bb2de78730f
DTSTAMP:20260422T171028Z
DESCRIPTION:
DTSTART;TZID=America/Chicago:20260812T100000
DTEND;TZID=America/Chicago:20260812T120000
LOCATION:
SUMMARY:Community Food Fair
END:VEVENT
END:VCALENDAR
