BEGIN:VCALENDAR
VERSION:2.0
PRODID:-//crossroadsatparkplace.org//NONSGML kigkonsult.se iCalcreator 2.30
 .10//
CALSCALE:GREGORIAN
METHOD:PUBLISH
UID:e52473ab-b8e5-457c-ba57-83ecb7709d57
X-WR-CALDESC:
X-WR-RELCALID:64d18b891bad07d328424bf01b27b48b
X-WR-TIMEZONE:America/Chicago
BEGIN:VTIMEZONE
TZID:America/Chicago
BEGIN:STANDARD
TZNAME:CST
DTSTART:20251102T020000
TZOFFSETFROM:-0500
TZOFFSETTO:-0600
RDATE:20261101T020000
RDATE:20271107T020000
END:STANDARD
BEGIN:DAYLIGHT
TZNAME:CDT
DTSTART:20260308T020000
TZOFFSETFROM:-0600
TZOFFSETTO:-0500
RDATE:20270314T020000
END:DAYLIGHT
END:VTIMEZONE
BEGIN:VEVENT
UID:b4b095b0-56aa-43ef-b9e2-7b3f6727f933
DTSTAMP:20260422T170733Z
DESCRIPTION:
DTSTART;TZID=America/Chicago:20260819T100000
DTEND;TZID=America/Chicago:20260819T120000
LOCATION:
SUMMARY:Community Food Fair
END:VEVENT
END:VCALENDAR
