BEGIN:VCALENDAR
VERSION:2.0
PRODID:-//crossroadsatparkplace.org//NONSGML kigkonsult.se iCalcreator 2.30
 .10//
CALSCALE:GREGORIAN
METHOD:PUBLISH
UID:2af716ab-95dc-4d1a-aaed-c58ef2326d8a
X-WR-CALDESC:
X-WR-RELCALID:ac5e26771ded86a8b018414a054237e7
X-WR-TIMEZONE:America/Chicago
BEGIN:VTIMEZONE
TZID:America/Chicago
BEGIN:STANDARD
TZNAME:CST
DTSTART:20251102T020000
TZOFFSETFROM:-0500
TZOFFSETTO:-0600
RDATE:20261101T020000
RDATE:20271107T020000
END:STANDARD
BEGIN:DAYLIGHT
TZNAME:CDT
DTSTART:20260308T020000
TZOFFSETFROM:-0600
TZOFFSETTO:-0500
RDATE:20270314T020000
RDATE:20280312T020000
END:DAYLIGHT
END:VTIMEZONE
BEGIN:VEVENT
UID:77945070-5407-4fbf-8793-9232e6c05da2
DTSTAMP:20260422T182908Z
DESCRIPTION:
DTSTART;TZID=America/Chicago:20260930T100000
DTEND;TZID=America/Chicago:20260930T120000
LOCATION:
SUMMARY:Community Food Fair
END:VEVENT
END:VCALENDAR
