BEGIN:VCALENDAR
VERSION:2.0
PRODID:-//crossroadsatparkplace.org//NONSGML kigkonsult.se iCalcreator 2.30
 .10//
CALSCALE:GREGORIAN
METHOD:PUBLISH
UID:a9441987-3ffd-4906-9a7d-6a629c394b11
X-WR-CALDESC:
X-WR-RELCALID:75ac8e8b2cbc0665cbc0474e07e55e52
X-WR-TIMEZONE:America/Chicago
BEGIN:VTIMEZONE
TZID:America/Chicago
BEGIN:STANDARD
TZNAME:CST
DTSTART:20251102T020000
TZOFFSETFROM:-0500
TZOFFSETTO:-0600
RDATE:20261101T020000
RDATE:20271107T020000
END:STANDARD
BEGIN:DAYLIGHT
TZNAME:CDT
DTSTART:20260308T020000
TZOFFSETFROM:-0600
TZOFFSETTO:-0500
RDATE:20270314T020000
RDATE:20280312T020000
END:DAYLIGHT
END:VTIMEZONE
BEGIN:VEVENT
UID:e89c3116-ab4c-461b-91a6-a46445940a27
DTSTAMP:20260422T193743Z
DESCRIPTION:
DTSTART;TZID=America/Chicago:20261007T100000
DTEND;TZID=America/Chicago:20261007T120000
LOCATION:
SUMMARY:Community Food Fair
END:VEVENT
END:VCALENDAR
