BEGIN:VCALENDAR
VERSION:2.0
PRODID:-//crossroadsatparkplace.org//NONSGML kigkonsult.se iCalcreator 2.30
 .10//
CALSCALE:GREGORIAN
METHOD:PUBLISH
UID:c7899e84-64c3-4fa8-9677-2ec435f585ab
X-WR-CALDESC:
X-WR-RELCALID:5280d7585c1ef3d708b7fc3eda37d038
X-WR-TIMEZONE:America/Chicago
BEGIN:VTIMEZONE
TZID:America/Chicago
BEGIN:STANDARD
TZNAME:CST
DTSTART:20261101T020000
TZOFFSETFROM:-0500
TZOFFSETTO:-0600
RDATE:20271107T020000
END:STANDARD
BEGIN:DAYLIGHT
TZNAME:CDT
DTSTART:20260308T020000
TZOFFSETFROM:-0600
TZOFFSETTO:-0500
RDATE:20270314T020000
RDATE:20280312T020000
END:DAYLIGHT
END:VTIMEZONE
BEGIN:VEVENT
UID:8e5f9c7e-da6d-4c75-9675-614efd25997f
DTSTAMP:20260422T211038Z
DESCRIPTION:
DTSTART;TZID=America/Chicago:20261118T100000
DTEND;TZID=America/Chicago:20261118T120000
LOCATION:
SUMMARY:Community Food Fair
END:VEVENT
END:VCALENDAR
