BEGIN:VCALENDAR
VERSION:2.0
PRODID:-//crossroadsatparkplace.org//NONSGML kigkonsult.se iCalcreator 2.30
 .10//
CALSCALE:GREGORIAN
METHOD:PUBLISH
UID:3a22c6ac-1a97-4a2c-9fe6-9ade9caa92d8
X-WR-CALDESC:
X-WR-RELCALID:019fb5afa43788f2e98c1f8cbbcec07b
X-WR-TIMEZONE:America/Chicago
BEGIN:VTIMEZONE
TZID:America/Chicago
BEGIN:STANDARD
TZNAME:CST
DTSTART:20261101T020000
TZOFFSETFROM:-0500
TZOFFSETTO:-0600
RDATE:20271107T020000
END:STANDARD
BEGIN:DAYLIGHT
TZNAME:CDT
DTSTART:20260308T020000
TZOFFSETFROM:-0600
TZOFFSETTO:-0500
RDATE:20270314T020000
RDATE:20280312T020000
END:DAYLIGHT
END:VTIMEZONE
BEGIN:VEVENT
UID:3049cac2-249e-4fbe-b01c-6187c7bc6918
DTSTAMP:20260422T223405Z
DESCRIPTION:
DTSTART;TZID=America/Chicago:20261216T100000
DTEND;TZID=America/Chicago:20261216T120000
LOCATION:
SUMMARY:Community Food Fair
END:VEVENT
END:VCALENDAR
