BEGIN:VCALENDAR
VERSION:2.0
PRODID:-//crossroadsatparkplace.org//NONSGML kigkonsult.se iCalcreator 2.30
 .10//
CALSCALE:GREGORIAN
METHOD:PUBLISH
UID:cf2f33db-d898-4594-9cc2-4d8fcd1c55f7
X-WR-CALDESC:
X-WR-RELCALID:6cf019b20fce92536262cd2587c37c97
X-WR-TIMEZONE:America/Chicago
BEGIN:VTIMEZONE
TZID:America/Chicago
BEGIN:STANDARD
TZNAME:CST
DTSTART:20261101T020000
TZOFFSETFROM:-0500
TZOFFSETTO:-0600
RDATE:20271107T020000
END:STANDARD
BEGIN:DAYLIGHT
TZNAME:CDT
DTSTART:20260308T020000
TZOFFSETFROM:-0600
TZOFFSETTO:-0500
RDATE:20270314T020000
RDATE:20280312T020000
END:DAYLIGHT
END:VTIMEZONE
BEGIN:VEVENT
UID:68a9fcee-8f5e-4862-af85-d8d754230fdf
DTSTAMP:20260422T223349Z
DESCRIPTION:
DTSTART;TZID=America/Chicago:20261223T100000
DTEND;TZID=America/Chicago:20261223T120000
LOCATION:
SUMMARY:Community Food Fair
END:VEVENT
END:VCALENDAR
