BEGIN:VCALENDAR
VERSION:2.0
PRODID:-//crossroadsatparkplace.org//NONSGML kigkonsult.se iCalcreator 2.30
 .10//
CALSCALE:GREGORIAN
METHOD:PUBLISH
UID:5fb3e538-1607-418b-a8f0-d00266497aec
X-WR-CALDESC:
X-WR-RELCALID:9029d48721f9dc00310a737c1e0dd898
X-WR-TIMEZONE:America/Chicago
BEGIN:VTIMEZONE
TZID:America/Chicago
BEGIN:STANDARD
TZNAME:CST
DTSTART:20261101T020000
TZOFFSETFROM:-0500
TZOFFSETTO:-0600
RDATE:20271107T020000
END:STANDARD
BEGIN:DAYLIGHT
TZNAME:CDT
DTSTART:20260308T020000
TZOFFSETFROM:-0600
TZOFFSETTO:-0500
RDATE:20270314T020000
RDATE:20280312T020000
END:DAYLIGHT
END:VTIMEZONE
BEGIN:VEVENT
UID:6f508013-eb7e-402e-a7f2-65349e7abfe3
DTSTAMP:20260422T223322Z
DESCRIPTION:
DTSTART;TZID=America/Chicago:20261230T100000
DTEND;TZID=America/Chicago:20261230T120000
LOCATION:
SUMMARY:Community Food Fair
END:VEVENT
END:VCALENDAR
