BEGIN:VCALENDAR
VERSION:2.0
PRODID:-//crossroadsatparkplace.org//NONSGML kigkonsult.se iCalcreator 2.30
 .10//
CALSCALE:GREGORIAN
METHOD:PUBLISH
UID:9de98362-a5c5-45ca-9aa3-bf907057e07c
X-WR-CALDESC:
X-WR-RELCALID:0304b411088f408869d9486be11d946f
X-WR-TIMEZONE:America/Chicago
BEGIN:VTIMEZONE
TZID:America/Chicago
BEGIN:STANDARD
TZNAME:CST
DTSTART:20261101T020000
TZOFFSETFROM:-0500
TZOFFSETTO:-0600
RDATE:20271107T020000
END:STANDARD
BEGIN:DAYLIGHT
TZNAME:CDT
DTSTART:20260308T020000
TZOFFSETFROM:-0600
TZOFFSETTO:-0500
RDATE:20270314T020000
RDATE:20280312T020000
END:DAYLIGHT
END:VTIMEZONE
BEGIN:VEVENT
UID:b753978e-68a9-48fa-9eb3-c6155df878d5
DTSTAMP:20260423T013555Z
DESCRIPTION:
DTSTART;TZID=America/Chicago:20270210T100000
DTEND;TZID=America/Chicago:20270210T120000
LOCATION:
SUMMARY:Community Food Fair
END:VEVENT
END:VCALENDAR
