BEGIN:VCALENDAR
VERSION:2.0
PRODID:-//crossroadsatparkplace.org//NONSGML kigkonsult.se iCalcreator 2.30
 .10//
CALSCALE:GREGORIAN
METHOD:PUBLISH
UID:4c084711-7972-4df2-84be-81f94878039e
X-WR-CALDESC:
X-WR-RELCALID:54f5ea8ac965291ae969580c07729ddf
X-WR-TIMEZONE:America/Chicago
BEGIN:VTIMEZONE
TZID:America/Chicago
BEGIN:STANDARD
TZNAME:CST
DTSTART:20261101T020000
TZOFFSETFROM:-0500
TZOFFSETTO:-0600
RDATE:20271107T020000
END:STANDARD
BEGIN:DAYLIGHT
TZNAME:CDT
DTSTART:20270314T020000
TZOFFSETFROM:-0600
TZOFFSETTO:-0500
RDATE:20280312T020000
END:DAYLIGHT
END:VTIMEZONE
BEGIN:VEVENT
UID:3f9bcd3a-9d91-4c4f-907b-3a0c1336b135
DTSTAMP:20260423T024529Z
DESCRIPTION:
DTSTART;TZID=America/Chicago:20270310T100000
DTEND;TZID=America/Chicago:20270310T120000
LOCATION:
SUMMARY:Community Food Fair
END:VEVENT
END:VCALENDAR
