BEGIN:VCALENDAR
VERSION:2.0
PRODID:-//crossroadsatparkplace.org//NONSGML kigkonsult.se iCalcreator 2.30
 .10//
CALSCALE:GREGORIAN
METHOD:PUBLISH
UID:ee113796-3430-41d8-8022-737edbccaa20
X-WR-CALDESC:
X-WR-RELCALID:e844788544ff455eac70cffaa9d948a0
X-WR-TIMEZONE:America/Chicago
BEGIN:VTIMEZONE
TZID:America/Chicago
BEGIN:STANDARD
TZNAME:CST
DTSTART:20261101T020000
TZOFFSETFROM:-0500
TZOFFSETTO:-0600
RDATE:20271107T020000
END:STANDARD
BEGIN:DAYLIGHT
TZNAME:CDT
DTSTART:20270314T020000
TZOFFSETFROM:-0600
TZOFFSETTO:-0500
RDATE:20280312T020000
END:DAYLIGHT
END:VTIMEZONE
BEGIN:VEVENT
UID:e4ab5e42-9a96-4ba4-adbb-4d57e8cc3d72
DTSTAMP:20260423T024502Z
DESCRIPTION:
DTSTART;TZID=America/Chicago:20270324T100000
DTEND;TZID=America/Chicago:20270324T120000
LOCATION:
SUMMARY:Community Food Fair
END:VEVENT
END:VCALENDAR
