BEGIN:VCALENDAR
VERSION:2.0
PRODID:-//crossroadsatparkplace.org//NONSGML kigkonsult.se iCalcreator 2.30
 .10//
CALSCALE:GREGORIAN
METHOD:PUBLISH
UID:7781ffdd-e27e-4c2c-a586-96d4fc4c1e66
X-WR-CALDESC:
X-WR-RELCALID:1b1c732a4afb5044ae5ec8c36fff7e44
X-WR-TIMEZONE:America/Chicago
BEGIN:VTIMEZONE
TZID:America/Chicago
BEGIN:STANDARD
TZNAME:CST
DTSTART:20261101T020000
TZOFFSETFROM:-0500
TZOFFSETTO:-0600
RDATE:20271107T020000
END:STANDARD
BEGIN:DAYLIGHT
TZNAME:CDT
DTSTART:20270314T020000
TZOFFSETFROM:-0600
TZOFFSETTO:-0500
RDATE:20280312T020000
END:DAYLIGHT
END:VTIMEZONE
BEGIN:VEVENT
UID:5431e435-963b-4c8b-b2e4-8aa394018fa8
DTSTAMP:20260423T024040Z
DESCRIPTION:
DTSTART;TZID=America/Chicago:20270325T070000
DTEND;TZID=America/Chicago:20270325T120000
LOCATION:
SUMMARY:Full Service in Operation
END:VEVENT
END:VCALENDAR
