BEGIN:VCALENDAR
VERSION:2.0
PRODID:-//crossroadsatparkplace.org//NONSGML kigkonsult.se iCalcreator 2.30
 .10//
CALSCALE:GREGORIAN
METHOD:PUBLISH
UID:ed17c980-d0ef-48ca-bdc6-fc97cdb8e9dc
X-WR-CALDESC:
X-WR-RELCALID:f23e9c2cbf8bb1e0810056a7a26aa218
X-WR-TIMEZONE:America/Chicago
BEGIN:VTIMEZONE
TZID:America/Chicago
BEGIN:STANDARD
TZNAME:CST
DTSTART:20261101T020000
TZOFFSETFROM:-0500
TZOFFSETTO:-0600
RDATE:20271107T020000
END:STANDARD
BEGIN:DAYLIGHT
TZNAME:CDT
DTSTART:20270314T020000
TZOFFSETFROM:-0600
TZOFFSETTO:-0500
RDATE:20280312T020000
END:DAYLIGHT
END:VTIMEZONE
BEGIN:VEVENT
UID:54659c4d-b513-4e76-a0ea-2ec61e8267cb
DTSTAMP:20260423T040733Z
DESCRIPTION:
DTSTART;TZID=America/Chicago:20270406T070000
DTEND;TZID=America/Chicago:20270406T120000
LOCATION:
SUMMARY:Full Service in Operation
END:VEVENT
END:VCALENDAR
