BEGIN:VCALENDAR
VERSION:2.0
PRODID:-//crossroadsatparkplace.org//NONSGML kigkonsult.se iCalcreator 2.30
 .10//
CALSCALE:GREGORIAN
METHOD:PUBLISH
UID:3d34ac58-7a91-4328-96f9-8d8b2f3149bf
X-WR-CALDESC:
X-WR-RELCALID:040fa8cdb5a81ed5eca41272bf541544
X-WR-TIMEZONE:America/Chicago
BEGIN:VTIMEZONE
TZID:America/Chicago
BEGIN:STANDARD
TZNAME:CST
DTSTART:20261101T020000
TZOFFSETFROM:-0500
TZOFFSETTO:-0600
RDATE:20271107T020000
END:STANDARD
BEGIN:DAYLIGHT
TZNAME:CDT
DTSTART:20270314T020000
TZOFFSETFROM:-0600
TZOFFSETTO:-0500
RDATE:20280312T020000
END:DAYLIGHT
END:VTIMEZONE
BEGIN:VEVENT
UID:a6043c0c-4302-46a5-a4a7-5501957c32f5
DTSTAMP:20260423T041804Z
DESCRIPTION:
DTSTART;TZID=America/Chicago:20270407T100000
DTEND;TZID=America/Chicago:20270407T120000
LOCATION:
SUMMARY:Community Food Fair
END:VEVENT
END:VCALENDAR
