BEGIN:VCALENDAR
VERSION:2.0
PRODID:-//crossroadsatparkplace.org//NONSGML kigkonsult.se iCalcreator 2.30
 .10//
CALSCALE:GREGORIAN
METHOD:PUBLISH
UID:c545ed7f-733b-45ec-b165-a442488c50aa
X-WR-CALDESC:
X-WR-RELCALID:a6753b69dbd32b70d2d1e0cf7b944c72
X-WR-TIMEZONE:America/Chicago
BEGIN:VTIMEZONE
TZID:America/Chicago
BEGIN:STANDARD
TZNAME:CST
DTSTART:20261101T020000
TZOFFSETFROM:-0500
TZOFFSETTO:-0600
RDATE:20271107T020000
RDATE:20281105T020000
END:STANDARD
BEGIN:DAYLIGHT
TZNAME:CDT
DTSTART:20270314T020000
TZOFFSETFROM:-0600
TZOFFSETTO:-0500
RDATE:20280312T020000
END:DAYLIGHT
END:VTIMEZONE
BEGIN:VEVENT
UID:092d5c1a-f4cb-473f-8d66-0ff713637c16
DTSTAMP:20260423T053746Z
DESCRIPTION:
DTSTART;TZID=America/Chicago:20270519T100000
DTEND;TZID=America/Chicago:20270519T120000
LOCATION:
SUMMARY:Community Food Fair
END:VEVENT
END:VCALENDAR
