BEGIN:VCALENDAR
VERSION:2.0
PRODID:-//crossroadsatparkplace.org//NONSGML kigkonsult.se iCalcreator 2.30
 .10//
CALSCALE:GREGORIAN
METHOD:PUBLISH
UID:777eff41-e892-427c-b3d9-9c66706c4f20
X-WR-CALDESC:
X-WR-RELCALID:10a3ab3a0738419dfb31b6e11afe8d60
X-WR-TIMEZONE:America/Chicago
BEGIN:VTIMEZONE
TZID:America/Chicago
BEGIN:STANDARD
TZNAME:CST
DTSTART:20261101T020000
TZOFFSETFROM:-0500
TZOFFSETTO:-0600
RDATE:20271107T020000
RDATE:20281105T020000
END:STANDARD
BEGIN:DAYLIGHT
TZNAME:CDT
DTSTART:20270314T020000
TZOFFSETFROM:-0600
TZOFFSETTO:-0500
RDATE:20280312T020000
END:DAYLIGHT
END:VTIMEZONE
BEGIN:VEVENT
UID:1292485c-5a3c-4cb4-8156-10b6bd760ff7
DTSTAMP:20260423T053802Z
DESCRIPTION:
DTSTART;TZID=America/Chicago:20270526T100000
DTEND;TZID=America/Chicago:20270526T120000
LOCATION:
SUMMARY:Community Food Fair
END:VEVENT
END:VCALENDAR
