BEGIN:VCALENDAR
VERSION:2.0
PRODID:-//crossroadsatparkplace.org//NONSGML kigkonsult.se iCalcreator 2.30
 .10//
CALSCALE:GREGORIAN
METHOD:PUBLISH
UID:1eda16a1-8ff0-49d8-9c26-0ad3efdab4db
X-WR-CALDESC:
X-WR-RELCALID:da5745caf4c17563c5f392eaa3beba35
X-WR-TIMEZONE:America/Chicago
BEGIN:VTIMEZONE
TZID:America/Chicago
BEGIN:STANDARD
TZNAME:CST
DTSTART:20261101T020000
TZOFFSETFROM:-0500
TZOFFSETTO:-0600
RDATE:20271107T020000
RDATE:20281105T020000
END:STANDARD
BEGIN:DAYLIGHT
TZNAME:CDT
DTSTART:20270314T020000
TZOFFSETFROM:-0600
TZOFFSETTO:-0500
RDATE:20280312T020000
END:DAYLIGHT
END:VTIMEZONE
BEGIN:VEVENT
UID:10c2f4a9-d6a6-4b99-922e-e9acc47e34d5
DTSTAMP:20260423T070420Z
DESCRIPTION:
DTSTART;TZID=America/Chicago:20270602T100000
DTEND;TZID=America/Chicago:20270602T120000
LOCATION:
SUMMARY:Community Food Fair
END:VEVENT
END:VCALENDAR
