BEGIN:VCALENDAR
VERSION:2.0
PRODID:-//crossroadsatparkplace.org//NONSGML kigkonsult.se iCalcreator 2.30
 .10//
CALSCALE:GREGORIAN
METHOD:PUBLISH
UID:6a0be418-adb8-4181-b17a-495cd5703ee0
X-WR-CALDESC:
X-WR-RELCALID:03d15d9a2d76585968f81e0a164146e8
X-WR-TIMEZONE:America/Chicago
BEGIN:VTIMEZONE
TZID:America/Chicago
BEGIN:STANDARD
TZNAME:CST
DTSTART:20261101T020000
TZOFFSETFROM:-0500
TZOFFSETTO:-0600
RDATE:20271107T020000
RDATE:20281105T020000
END:STANDARD
BEGIN:DAYLIGHT
TZNAME:CDT
DTSTART:20270314T020000
TZOFFSETFROM:-0600
TZOFFSETTO:-0500
RDATE:20280312T020000
END:DAYLIGHT
END:VTIMEZONE
BEGIN:VEVENT
UID:b9b6f86f-f7f8-45c7-aa90-0cce1afe216e
DTSTAMP:20260423T070420Z
DESCRIPTION:
DTSTART;TZID=America/Chicago:20270616T100000
DTEND;TZID=America/Chicago:20270616T120000
LOCATION:
SUMMARY:Community Food Fair
END:VEVENT
END:VCALENDAR
