BEGIN:VCALENDAR
VERSION:2.0
PRODID:-//crossroadsatparkplace.org//NONSGML kigkonsult.se iCalcreator 2.30
 .10//
CALSCALE:GREGORIAN
METHOD:PUBLISH
UID:545d535c-af96-4ac9-91cb-2ff7a14632ce
X-WR-CALDESC:
X-WR-RELCALID:0cc6b95c5c90c8cc13f93c22f334ccdd
X-WR-TIMEZONE:America/Chicago
BEGIN:VTIMEZONE
TZID:America/Chicago
BEGIN:STANDARD
TZNAME:CST
DTSTART:20261101T020000
TZOFFSETFROM:-0500
TZOFFSETTO:-0600
RDATE:20271107T020000
RDATE:20281105T020000
END:STANDARD
BEGIN:DAYLIGHT
TZNAME:CDT
DTSTART:20270314T020000
TZOFFSETFROM:-0600
TZOFFSETTO:-0500
RDATE:20280312T020000
END:DAYLIGHT
END:VTIMEZONE
BEGIN:VEVENT
UID:0863d1e9-dff9-4506-8229-2589cfd26e13
DTSTAMP:20260423T071130Z
DESCRIPTION:
DTSTART;TZID=America/Chicago:20270623T100000
DTEND;TZID=America/Chicago:20270623T120000
LOCATION:
SUMMARY:Community Food Fair
END:VEVENT
END:VCALENDAR
