BEGIN:VCALENDAR
VERSION:2.0
PRODID:-//crossroadsatparkplace.org//NONSGML kigkonsult.se iCalcreator 2.30
 .10//
CALSCALE:GREGORIAN
METHOD:PUBLISH
UID:684bf9c1-3a71-40df-ada0-63b1df5ebbcb
X-WR-CALDESC:
X-WR-RELCALID:6ba7839265db9330aa7c86c044846c05
X-WR-TIMEZONE:America/Chicago
BEGIN:VTIMEZONE
TZID:America/Chicago
BEGIN:STANDARD
TZNAME:CST
DTSTART:20261101T020000
TZOFFSETFROM:-0500
TZOFFSETTO:-0600
RDATE:20271107T020000
RDATE:20281105T020000
END:STANDARD
BEGIN:DAYLIGHT
TZNAME:CDT
DTSTART:20270314T020000
TZOFFSETFROM:-0600
TZOFFSETTO:-0500
RDATE:20280312T020000
END:DAYLIGHT
END:VTIMEZONE
BEGIN:VEVENT
UID:ec1056f6-8feb-4f62-8368-a037b1cb1342
DTSTAMP:20260423T070237Z
DESCRIPTION:
DTSTART;TZID=America/Chicago:20270630T100000
DTEND;TZID=America/Chicago:20270630T120000
LOCATION:
SUMMARY:Community Food Fair
END:VEVENT
END:VCALENDAR
