BEGIN:VCALENDAR
VERSION:2.0
PRODID:-//crossroadsatparkplace.org//NONSGML kigkonsult.se iCalcreator 2.30
 .10//
CALSCALE:GREGORIAN
METHOD:PUBLISH
UID:8020ced9-fd47-41b5-9326-4eb7909ae10f
X-WR-CALDESC:
X-WR-RELCALID:93a437012f69377981c45e43dc49a74d
X-WR-TIMEZONE:America/Chicago
BEGIN:VTIMEZONE
TZID:America/Chicago
BEGIN:STANDARD
TZNAME:CST
DTSTART:20261101T020000
TZOFFSETFROM:-0500
TZOFFSETTO:-0600
RDATE:20271107T020000
RDATE:20281105T020000
END:STANDARD
BEGIN:DAYLIGHT
TZNAME:CDT
DTSTART:20270314T020000
TZOFFSETFROM:-0600
TZOFFSETTO:-0500
RDATE:20280312T020000
END:DAYLIGHT
END:VTIMEZONE
BEGIN:VEVENT
UID:c5ee2784-1c8b-41d8-97bc-70221c1c0bcd
DTSTAMP:20260423T083127Z
DESCRIPTION:
DTSTART;TZID=America/Chicago:20270721T100000
DTEND;TZID=America/Chicago:20270721T120000
LOCATION:
SUMMARY:Community Food Fair
END:VEVENT
END:VCALENDAR
