BEGIN:VCALENDAR
VERSION:2.0
PRODID:-//crossroadsatparkplace.org//NONSGML kigkonsult.se iCalcreator 2.30
 .10//
CALSCALE:GREGORIAN
METHOD:PUBLISH
UID:7d84061d-38a3-4906-a56d-d9c9ab33ce35
X-WR-CALDESC:
X-WR-RELCALID:6c40817a42f4594d3d4abf455d8af45d
X-WR-TIMEZONE:America/Chicago
BEGIN:VTIMEZONE
TZID:America/Chicago
BEGIN:STANDARD
TZNAME:CST
DTSTART:20261101T020000
TZOFFSETFROM:-0500
TZOFFSETTO:-0600
RDATE:20271107T020000
RDATE:20281105T020000
END:STANDARD
BEGIN:DAYLIGHT
TZNAME:CDT
DTSTART:20270314T020000
TZOFFSETFROM:-0600
TZOFFSETTO:-0500
RDATE:20280312T020000
END:DAYLIGHT
END:VTIMEZONE
BEGIN:VEVENT
UID:80290ceb-40d8-41c1-aed8-9ae182f9fa7d
DTSTAMP:20260423T083237Z
DESCRIPTION:
DTSTART;TZID=America/Chicago:20270728T100000
DTEND;TZID=America/Chicago:20270728T120000
LOCATION:
SUMMARY:Community Food Fair
END:VEVENT
END:VCALENDAR
