BEGIN:VCALENDAR
VERSION:2.0
PRODID:-//crossroadsatparkplace.org//NONSGML kigkonsult.se iCalcreator 2.30
 .10//
CALSCALE:GREGORIAN
METHOD:PUBLISH
UID:15ce3d3f-aaed-46d7-b9cc-b7f637754699
X-WR-CALDESC:
X-WR-RELCALID:5cc5b8f01e7343b937892d2461cd6129
X-WR-TIMEZONE:America/Chicago
BEGIN:VTIMEZONE
TZID:America/Chicago
BEGIN:STANDARD
TZNAME:CST
DTSTART:20261101T020000
TZOFFSETFROM:-0500
TZOFFSETTO:-0600
RDATE:20271107T020000
RDATE:20281105T020000
END:STANDARD
BEGIN:DAYLIGHT
TZNAME:CDT
DTSTART:20270314T020000
TZOFFSETFROM:-0600
TZOFFSETTO:-0500
RDATE:20280312T020000
END:DAYLIGHT
END:VTIMEZONE
BEGIN:VEVENT
UID:d8ab7b5f-291a-4bdf-97a5-15dd56fb9dc2
DTSTAMP:20260423T135504Z
DESCRIPTION:
DTSTART;TZID=America/Chicago:20270804T100000
DTEND;TZID=America/Chicago:20270804T120000
LOCATION:
SUMMARY:Community Food Fair
END:VEVENT
END:VCALENDAR
