BEGIN:VCALENDAR
VERSION:2.0
PRODID:-//crossroadsatparkplace.org//NONSGML kigkonsult.se iCalcreator 2.30
 .10//
CALSCALE:GREGORIAN
METHOD:PUBLISH
UID:7c494190-a9fc-40fa-acd2-87b6237b375c
X-WR-CALDESC:
X-WR-RELCALID:af480e3266f6e72ff55d487c95fb2a7c
X-WR-TIMEZONE:America/Chicago
BEGIN:VTIMEZONE
TZID:America/Chicago
BEGIN:STANDARD
TZNAME:CST
DTSTART:20261101T020000
TZOFFSETFROM:-0500
TZOFFSETTO:-0600
RDATE:20271107T020000
RDATE:20281105T020000
END:STANDARD
BEGIN:DAYLIGHT
TZNAME:CDT
DTSTART:20270314T020000
TZOFFSETFROM:-0600
TZOFFSETTO:-0500
RDATE:20280312T020000
END:DAYLIGHT
END:VTIMEZONE
BEGIN:VEVENT
UID:89fa0d47-efbe-4507-a901-13d5e4f80bfb
DTSTAMP:20260423T135630Z
DESCRIPTION:
DTSTART;TZID=America/Chicago:20270811T100000
DTEND;TZID=America/Chicago:20270811T120000
LOCATION:
SUMMARY:Community Food Fair
END:VEVENT
END:VCALENDAR
