BEGIN:VCALENDAR
VERSION:2.0
PRODID:-//crossroadsatparkplace.org//NONSGML kigkonsult.se iCalcreator 2.30
 .10//
CALSCALE:GREGORIAN
METHOD:PUBLISH
UID:6772b54b-0475-4a78-8a0b-62aa4b1c948e
X-WR-CALDESC:
X-WR-RELCALID:a75f58e85fb653ccc6521e2439132871
X-WR-TIMEZONE:America/Chicago
BEGIN:VTIMEZONE
TZID:America/Chicago
BEGIN:STANDARD
TZNAME:CST
DTSTART:20261101T020000
TZOFFSETFROM:-0500
TZOFFSETTO:-0600
RDATE:20271107T020000
RDATE:20281105T020000
END:STANDARD
BEGIN:DAYLIGHT
TZNAME:CDT
DTSTART:20270314T020000
TZOFFSETFROM:-0600
TZOFFSETTO:-0500
RDATE:20280312T020000
END:DAYLIGHT
END:VTIMEZONE
BEGIN:VEVENT
UID:7bd60e4a-06e8-49f7-b2af-3322725f453f
DTSTAMP:20260423T141304Z
DESCRIPTION:
DTSTART;TZID=America/Chicago:20270818T100000
DTEND;TZID=America/Chicago:20270818T120000
LOCATION:
SUMMARY:Community Food Fair
END:VEVENT
END:VCALENDAR
