BEGIN:VCALENDAR
VERSION:2.0
PRODID:-//crossroadsatparkplace.org//NONSGML kigkonsult.se iCalcreator 2.30
 .10//
CALSCALE:GREGORIAN
METHOD:PUBLISH
UID:b7ac6633-a241-446f-999c-cfc732cd26c0
X-WR-CALDESC:
X-WR-RELCALID:b84315362af177e778e6daf8446d4bf1
X-WR-TIMEZONE:America/Chicago
BEGIN:VTIMEZONE
TZID:America/Chicago
BEGIN:STANDARD
TZNAME:CST
DTSTART:20261101T020000
TZOFFSETFROM:-0500
TZOFFSETTO:-0600
RDATE:20271107T020000
RDATE:20281105T020000
END:STANDARD
BEGIN:DAYLIGHT
TZNAME:CDT
DTSTART:20270314T020000
TZOFFSETFROM:-0600
TZOFFSETTO:-0500
RDATE:20280312T020000
END:DAYLIGHT
END:VTIMEZONE
BEGIN:VEVENT
UID:6a068ba1-4b39-4304-b9b1-e360c2f13ccc
DTSTAMP:20260423T135915Z
DESCRIPTION:
DTSTART;TZID=America/Chicago:20270825T100000
DTEND;TZID=America/Chicago:20270825T120000
LOCATION:
SUMMARY:Community Food Fair
END:VEVENT
END:VCALENDAR
