BEGIN:VCALENDAR
VERSION:2.0
PRODID:-//crossroadsatparkplace.org//NONSGML kigkonsult.se iCalcreator 2.30
 .10//
CALSCALE:GREGORIAN
METHOD:PUBLISH
UID:9865a52a-ff0e-4680-87e4-6f8fb91ec18d
X-WR-CALDESC:
X-WR-RELCALID:f5f1225f082c9890936c61014b8dae19
X-WR-TIMEZONE:America/Chicago
BEGIN:VTIMEZONE
TZID:America/Chicago
BEGIN:STANDARD
TZNAME:CST
DTSTART:20261101T020000
TZOFFSETFROM:-0500
TZOFFSETTO:-0600
RDATE:20271107T020000
RDATE:20281105T020000
END:STANDARD
BEGIN:DAYLIGHT
TZNAME:CDT
DTSTART:20270314T020000
TZOFFSETFROM:-0600
TZOFFSETTO:-0500
RDATE:20280312T020000
END:DAYLIGHT
END:VTIMEZONE
BEGIN:VEVENT
UID:a668fcf6-6827-42d3-9f53-67b35ad27a59
DTSTAMP:20260423T151604Z
DESCRIPTION:
DTSTART;TZID=America/Chicago:20270901T100000
DTEND;TZID=America/Chicago:20270901T120000
LOCATION:
SUMMARY:Community Food Fair
END:VEVENT
END:VCALENDAR
