BEGIN:VCALENDAR
VERSION:2.0
PRODID:-//crossroadsatparkplace.org//NONSGML kigkonsult.se iCalcreator 2.30
 .10//
CALSCALE:GREGORIAN
METHOD:PUBLISH
UID:bdc6f8a1-16d0-4a43-825e-42d38e3dee60
X-WR-CALDESC:
X-WR-RELCALID:1100beaa17d2ca35904131dd14ffcc5e
X-WR-TIMEZONE:America/Chicago
BEGIN:VTIMEZONE
TZID:America/Chicago
BEGIN:STANDARD
TZNAME:CST
DTSTART:20261101T020000
TZOFFSETFROM:-0500
TZOFFSETTO:-0600
RDATE:20271107T020000
RDATE:20281105T020000
END:STANDARD
BEGIN:DAYLIGHT
TZNAME:CDT
DTSTART:20270314T020000
TZOFFSETFROM:-0600
TZOFFSETTO:-0500
RDATE:20280312T020000
END:DAYLIGHT
END:VTIMEZONE
BEGIN:VEVENT
UID:ebef865e-0052-4cb8-a6c2-ed110f87e884
DTSTAMP:20260423T151338Z
DESCRIPTION:
DTSTART;TZID=America/Chicago:20270907T070000
DTEND;TZID=America/Chicago:20270907T120000
LOCATION:
SUMMARY:Full Service in Operation
END:VEVENT
END:VCALENDAR
