BEGIN:VCALENDAR
VERSION:2.0
PRODID:-//crossroadsatparkplace.org//NONSGML kigkonsult.se iCalcreator 2.30
 .10//
CALSCALE:GREGORIAN
METHOD:PUBLISH
UID:d6f2feb1-0403-47b9-a3e3-f01cb226f080
X-WR-CALDESC:
X-WR-RELCALID:367eb21075884eac0211a2c3c2e1fe51
X-WR-TIMEZONE:America/Chicago
BEGIN:VTIMEZONE
TZID:America/Chicago
BEGIN:STANDARD
TZNAME:CST
DTSTART:20261101T020000
TZOFFSETFROM:-0500
TZOFFSETTO:-0600
RDATE:20271107T020000
RDATE:20281105T020000
END:STANDARD
BEGIN:DAYLIGHT
TZNAME:CDT
DTSTART:20270314T020000
TZOFFSETFROM:-0600
TZOFFSETTO:-0500
RDATE:20280312T020000
RDATE:20290311T020000
END:DAYLIGHT
END:VTIMEZONE
BEGIN:VEVENT
UID:a4509d29-d135-4d7c-ab26-02acdd073b41
DTSTAMP:20260423T151634Z
DESCRIPTION:
DTSTART;TZID=America/Chicago:20270922T100000
DTEND;TZID=America/Chicago:20270922T120000
LOCATION:
SUMMARY:Community Food Fair
END:VEVENT
END:VCALENDAR
