BEGIN:VCALENDAR
VERSION:2.0
PRODID:-//crossroadsatparkplace.org//NONSGML kigkonsult.se iCalcreator 2.30
 .10//
CALSCALE:GREGORIAN
METHOD:PUBLISH
UID:33a628a3-28b5-428a-81f4-885a6a6660ae
X-WR-CALDESC:
X-WR-RELCALID:5878b6600ee30a1e651025b99acae701
X-WR-TIMEZONE:America/Chicago
BEGIN:VTIMEZONE
TZID:America/Chicago
BEGIN:STANDARD
TZNAME:CST
DTSTART:20261101T020000
TZOFFSETFROM:-0500
TZOFFSETTO:-0600
RDATE:20271107T020000
RDATE:20281105T020000
END:STANDARD
BEGIN:DAYLIGHT
TZNAME:CDT
DTSTART:20270314T020000
TZOFFSETFROM:-0600
TZOFFSETTO:-0500
RDATE:20280312T020000
RDATE:20290311T020000
END:DAYLIGHT
END:VTIMEZONE
BEGIN:VEVENT
UID:9972ada6-64de-4dc4-9994-6e425ee61995
DTSTAMP:20260423T151511Z
DESCRIPTION:
DTSTART;TZID=America/Chicago:20270929T100000
DTEND;TZID=America/Chicago:20270929T120000
LOCATION:
SUMMARY:Community Food Fair
END:VEVENT
END:VCALENDAR
