BEGIN:VCALENDAR
VERSION:2.0
PRODID:-//crossroadsatparkplace.org//NONSGML kigkonsult.se iCalcreator 2.30
 .10//
CALSCALE:GREGORIAN
METHOD:PUBLISH
UID:0febcaa7-86ec-4978-9ca2-aa24c8912de5
X-WR-CALDESC:
X-WR-RELCALID:bb33960e30903b222b8da8db9ce72769
X-WR-TIMEZONE:America/Chicago
BEGIN:VTIMEZONE
TZID:America/Chicago
BEGIN:STANDARD
TZNAME:CST
DTSTART:20261101T020000
TZOFFSETFROM:-0500
TZOFFSETTO:-0600
RDATE:20271107T020000
RDATE:20281105T020000
END:STANDARD
BEGIN:DAYLIGHT
TZNAME:CDT
DTSTART:20270314T020000
TZOFFSETFROM:-0600
TZOFFSETTO:-0500
RDATE:20280312T020000
RDATE:20290311T020000
END:DAYLIGHT
END:VTIMEZONE
BEGIN:VEVENT
UID:2a7eef47-0bf4-4d82-bccc-13693213bfb2
DTSTAMP:20260423T164733Z
DESCRIPTION:
DTSTART;TZID=America/Chicago:20271013T100000
DTEND;TZID=America/Chicago:20271013T120000
LOCATION:
SUMMARY:Community Food Fair
END:VEVENT
END:VCALENDAR
