BEGIN:VCALENDAR
VERSION:2.0
PRODID:-//crossroadsatparkplace.org//NONSGML kigkonsult.se iCalcreator 2.30
 .10//
CALSCALE:GREGORIAN
METHOD:PUBLISH
UID:3578f742-b2e3-4e7d-8dc2-1505c5da7961
X-WR-CALDESC:
X-WR-RELCALID:58de9c2bed1aa072874482dbf3976131
X-WR-TIMEZONE:America/Chicago
BEGIN:VTIMEZONE
TZID:America/Chicago
BEGIN:STANDARD
TZNAME:CST
DTSTART:20261101T020000
TZOFFSETFROM:-0500
TZOFFSETTO:-0600
RDATE:20271107T020000
RDATE:20281105T020000
END:STANDARD
BEGIN:DAYLIGHT
TZNAME:CDT
DTSTART:20270314T020000
TZOFFSETFROM:-0600
TZOFFSETTO:-0500
RDATE:20280312T020000
RDATE:20290311T020000
END:DAYLIGHT
END:VTIMEZONE
BEGIN:VEVENT
UID:c8a1958c-7275-418f-9241-2132657be658
DTSTAMP:20260423T164829Z
DESCRIPTION:
DTSTART;TZID=America/Chicago:20271020T100000
DTEND;TZID=America/Chicago:20271020T120000
LOCATION:
SUMMARY:Community Food Fair
END:VEVENT
END:VCALENDAR
