BEGIN:VCALENDAR
VERSION:2.0
PRODID:-//crossroadsatparkplace.org//NONSGML kigkonsult.se iCalcreator 2.30
 .10//
CALSCALE:GREGORIAN
METHOD:PUBLISH
UID:b9304797-e2e4-4ef8-b088-04799397e4ad
X-WR-CALDESC:
X-WR-RELCALID:c43aac596d13ff46085a6510a50f43e9
X-WR-TIMEZONE:America/Chicago
BEGIN:VTIMEZONE
TZID:America/Chicago
BEGIN:STANDARD
TZNAME:CST
DTSTART:20271107T020000
TZOFFSETFROM:-0500
TZOFFSETTO:-0600
RDATE:20281105T020000
END:STANDARD
BEGIN:DAYLIGHT
TZNAME:CDT
DTSTART:20270314T020000
TZOFFSETFROM:-0600
TZOFFSETTO:-0500
RDATE:20280312T020000
RDATE:20290311T020000
END:DAYLIGHT
END:VTIMEZONE
BEGIN:VEVENT
UID:6fdc5184-8938-4e9b-b2ec-4992db7f96eb
DTSTAMP:20260423T182235Z
DESCRIPTION:
DTSTART;TZID=America/Chicago:20271124T100000
DTEND;TZID=America/Chicago:20271124T120000
LOCATION:
SUMMARY:Community Food Fair
END:VEVENT
END:VCALENDAR
