BEGIN:VCALENDAR
VERSION:2.0
PRODID:-//crossroadsatparkplace.org//NONSGML kigkonsult.se iCalcreator 2.30
 .10//
CALSCALE:GREGORIAN
METHOD:PUBLISH
UID:5044460f-4255-41ae-8a3f-95444ca325bb
X-WR-CALDESC:
X-WR-RELCALID:87fbe419bd542230009c294a57417939
X-WR-TIMEZONE:America/Chicago
BEGIN:VTIMEZONE
TZID:America/Chicago
BEGIN:STANDARD
TZNAME:CST
DTSTART:20271107T020000
TZOFFSETFROM:-0500
TZOFFSETTO:-0600
RDATE:20281105T020000
END:STANDARD
BEGIN:DAYLIGHT
TZNAME:CDT
DTSTART:20270314T020000
TZOFFSETFROM:-0600
TZOFFSETTO:-0500
RDATE:20280312T020000
RDATE:20290311T020000
END:DAYLIGHT
END:VTIMEZONE
BEGIN:VEVENT
UID:296bdfee-9bad-4c39-8943-78705f4f5bc0
DTSTAMP:20260423T193410Z
DESCRIPTION:
DTSTART;TZID=America/Chicago:20271201T100000
DTEND;TZID=America/Chicago:20271201T120000
LOCATION:
SUMMARY:Community Food Fair
END:VEVENT
END:VCALENDAR
