BEGIN:VCALENDAR
VERSION:2.0
PRODID:-//crossroadsatparkplace.org//NONSGML kigkonsult.se iCalcreator 2.30
 .10//
CALSCALE:GREGORIAN
METHOD:PUBLISH
UID:8a893aca-10db-4656-85d7-faa021fbb0cc
X-WR-CALDESC:
X-WR-RELCALID:3d4b1dcc8e734dfe2df5c6e1916a32df
X-WR-TIMEZONE:America/Chicago
BEGIN:VTIMEZONE
TZID:America/Chicago
BEGIN:STANDARD
TZNAME:CST
DTSTART:20271107T020000
TZOFFSETFROM:-0500
TZOFFSETTO:-0600
RDATE:20281105T020000
END:STANDARD
BEGIN:DAYLIGHT
TZNAME:CDT
DTSTART:20270314T020000
TZOFFSETFROM:-0600
TZOFFSETTO:-0500
RDATE:20280312T020000
RDATE:20290311T020000
END:DAYLIGHT
END:VTIMEZONE
BEGIN:VEVENT
UID:5aeeac26-ac4a-4916-b2c4-57dd9e2e205f
DTSTAMP:20260423T193507Z
DESCRIPTION:
DTSTART;TZID=America/Chicago:20271229T100000
DTEND;TZID=America/Chicago:20271229T120000
LOCATION:
SUMMARY:Community Food Fair
END:VEVENT
END:VCALENDAR
