BEGIN:VCALENDAR
VERSION:2.0
PRODID:-//crossroadsatparkplace.org//NONSGML kigkonsult.se iCalcreator 2.30
 .10//
CALSCALE:GREGORIAN
METHOD:PUBLISH
UID:a54d3ad3-ba71-4fe2-8808-02493f0dbe64
X-WR-CALDESC:
X-WR-RELCALID:761bb799f56ff9be0401027530faf656
X-WR-TIMEZONE:America/Chicago
BEGIN:VTIMEZONE
TZID:America/Chicago
BEGIN:STANDARD
TZNAME:CST
DTSTART:20271107T020000
TZOFFSETFROM:-0500
TZOFFSETTO:-0600
RDATE:20281105T020000
END:STANDARD
BEGIN:DAYLIGHT
TZNAME:CDT
DTSTART:20270314T020000
TZOFFSETFROM:-0600
TZOFFSETTO:-0500
RDATE:20280312T020000
RDATE:20290311T020000
END:DAYLIGHT
END:VTIMEZONE
BEGIN:VEVENT
UID:f15a1ad0-e035-415b-8b90-8505f7b0381c
DTSTAMP:20260423T204754Z
DESCRIPTION:
DTSTART;TZID=America/Chicago:20280105T100000
DTEND;TZID=America/Chicago:20280105T120000
LOCATION:
SUMMARY:Community Food Fair
END:VEVENT
END:VCALENDAR
