BEGIN:VCALENDAR
VERSION:2.0
PRODID:-//crossroadsatparkplace.org//NONSGML kigkonsult.se iCalcreator 2.30
 .10//
CALSCALE:GREGORIAN
METHOD:PUBLISH
UID:69abb569-5d45-48f7-8516-ed6440c87fcb
X-WR-CALDESC:
X-WR-RELCALID:2cc4ba99f1fd7687b3fdf95fbaa4f1e2
X-WR-TIMEZONE:America/Chicago
BEGIN:VTIMEZONE
TZID:America/Chicago
BEGIN:STANDARD
TZNAME:CST
DTSTART:20271107T020000
TZOFFSETFROM:-0500
TZOFFSETTO:-0600
RDATE:20281105T020000
END:STANDARD
BEGIN:DAYLIGHT
TZNAME:CDT
DTSTART:20270314T020000
TZOFFSETFROM:-0600
TZOFFSETTO:-0500
RDATE:20280312T020000
RDATE:20290311T020000
END:DAYLIGHT
END:VTIMEZONE
BEGIN:VEVENT
UID:076d97c3-d4e1-4f80-bbe5-71a3ba1957aa
DTSTAMP:20260423T221212Z
DESCRIPTION:
DTSTART;TZID=America/Chicago:20280215T070000
DTEND;TZID=America/Chicago:20280215T120000
LOCATION:
SUMMARY:Full Service in Operation
END:VEVENT
END:VCALENDAR
