BEGIN:VCALENDAR
VERSION:2.0
PRODID:-//crossroadsatparkplace.org//NONSGML kigkonsult.se iCalcreator 2.30
 .10//
CALSCALE:GREGORIAN
METHOD:PUBLISH
UID:5adefd41-e744-4e21-9031-ef8105729d95
X-WR-CALDESC:
X-WR-RELCALID:f653a811ade39c96d9dbaf4ea0e7ed99
X-WR-TIMEZONE:America/Chicago
BEGIN:VTIMEZONE
TZID:America/Chicago
BEGIN:STANDARD
TZNAME:CST
DTSTART:20271107T020000
TZOFFSETFROM:-0500
TZOFFSETTO:-0600
RDATE:20281105T020000
END:STANDARD
BEGIN:DAYLIGHT
TZNAME:CDT
DTSTART:20270314T020000
TZOFFSETFROM:-0600
TZOFFSETTO:-0500
RDATE:20280312T020000
RDATE:20290311T020000
END:DAYLIGHT
END:VTIMEZONE
BEGIN:VEVENT
UID:fa95424d-dccc-4b57-b898-c2ebfb61aefa
DTSTAMP:20260423T221124Z
DESCRIPTION:
DTSTART;TZID=America/Chicago:20280223T100000
DTEND;TZID=America/Chicago:20280223T120000
LOCATION:
SUMMARY:Community Food Fair
END:VEVENT
END:VCALENDAR
