BEGIN:VCALENDAR
VERSION:2.0
PRODID:-//crossroadsatparkplace.org//NONSGML kigkonsult.se iCalcreator 2.30
 .10//
CALSCALE:GREGORIAN
METHOD:PUBLISH
UID:487afba5-6a8a-4f39-8713-278954493482
X-WR-CALDESC:
X-WR-RELCALID:cc31c7f8b0a246149f019ca7935b0fb0
X-WR-TIMEZONE:America/Chicago
BEGIN:VTIMEZONE
TZID:America/Chicago
BEGIN:STANDARD
TZNAME:CST
DTSTART:20271107T020000
TZOFFSETFROM:-0500
TZOFFSETTO:-0600
RDATE:20281105T020000
END:STANDARD
BEGIN:DAYLIGHT
TZNAME:CDT
DTSTART:20280312T020000
TZOFFSETFROM:-0600
TZOFFSETTO:-0500
RDATE:20290311T020000
END:DAYLIGHT
END:VTIMEZONE
BEGIN:VEVENT
UID:b32fd2de-2a99-4c43-81aa-6b485225e008
DTSTAMP:20260423T233138Z
DESCRIPTION:
DTSTART;TZID=America/Chicago:20280315T100000
DTEND;TZID=America/Chicago:20280315T120000
LOCATION:
SUMMARY:Community Food Fair
END:VEVENT
END:VCALENDAR
